BEGIN:VCALENDAR
VERSION:2.0
PRODID:-//Semana Santa Crevillent - ECPv6.15.20//NONSGML v1.0//EN
CALSCALE:GREGORIAN
METHOD:PUBLISH
X-ORIGINAL-URL:http://www.semanasantacrevillent.com:8111
X-WR-CALDESC:Eventos para Semana Santa Crevillent
REFRESH-INTERVAL;VALUE=DURATION:PT1H
X-Robots-Tag:noindex
X-PUBLISHED-TTL:PT1H
BEGIN:VTIMEZONE
TZID:UTC
BEGIN:STANDARD
TZOFFSETFROM:+0000
TZOFFSETTO:+0000
TZNAME:UTC
DTSTART:20230101T000000
END:STANDARD
END:VTIMEZONE
BEGIN:VEVENT
DTSTART;VALUE=DATE:20240308
DTEND;VALUE=DATE:20240309
DTSTAMP:20260420T034929
CREATED:20240307T072524Z
LAST-MODIFIED:20240307T072524Z
UID:5552-1709856000-1709942399@www.semanasantacrevillent.com
SUMMARY:Via Crucis San Cayetano
DESCRIPTION:El día 8 de marzo a las 20:00\, por primera vez\, Via Crucis desde la Parroquia de San Cayetano
URL:http://www.semanasantacrevillent.com:8111/evento/via-crucis-san-cayetano/
LOCATION:Parroquia San Cayetano
CATEGORIES:Procesión
END:VEVENT
BEGIN:VEVENT
DTSTART;VALUE=DATE:20240323
DTEND;VALUE=DATE:20240324
DTSTAMP:20260420T034929
CREATED:20231228T165517Z
LAST-MODIFIED:20231228T165735Z
UID:4232-1711152000-1711238399@www.semanasantacrevillent.com
SUMMARY:Salida Convocatoria
DESCRIPTION:Paso Guión de la Semana Santa que recorre las calles anunciando el inminente inicio de la Semana Santa convocando al pueblo a la participación con los sones de las Bocinas.
URL:http://www.semanasantacrevillent.com:8111/evento/salida-convocatoria/
LOCATION:Plaza Ayuntamiento\, Plaza Alcalde Manuel Menargues\, Crevillent
CATEGORIES:Procesión
ATTACH;FMTTYPE=image/jpeg:http://www.semanasantacrevillent.com:8111/wp-content/uploads/2023/11/166332624_2697012143857018_295770094981468822_n-e1700767149657.jpg
END:VEVENT
BEGIN:VEVENT
DTSTART;VALUE=DATE:20240324
DTEND;VALUE=DATE:20240325
DTSTAMP:20260420T034929
CREATED:20231228T170825Z
LAST-MODIFIED:20231228T170825Z
UID:4234-1711238400-1711324799@www.semanasantacrevillent.com
SUMMARY:Domingo de Ramos
DESCRIPTION:
URL:http://www.semanasantacrevillent.com:8111/evento/domingo-de-ramos/
LOCATION:Parroquia Santísima Trinidad
CATEGORIES:Procesión
ATTACH;FMTTYPE=image/jpeg:http://www.semanasantacrevillent.com:8111/wp-content/uploads/2023/11/92467549_1413260728845205_4576137879788453888_n-e1700845531722.jpg
END:VEVENT
BEGIN:VEVENT
DTSTART;VALUE=DATE:20240325
DTEND;VALUE=DATE:20240326
DTSTAMP:20260420T034929
CREATED:20231228T172413Z
LAST-MODIFIED:20231228T172413Z
UID:4248-1711324800-1711411199@www.semanasantacrevillent.com
SUMMARY:Procesión de Niños
DESCRIPTION:
URL:http://www.semanasantacrevillent.com:8111/evento/procesion-de-ninos/
LOCATION:Parroquia Santísima Trinidad
CATEGORIES:Procesión
ATTACH;FMTTYPE=image/jpeg:http://www.semanasantacrevillent.com:8111/wp-content/uploads/2023/12/339103124_962309308483781_7857982445950967525_n.jpg
END:VEVENT
BEGIN:VEVENT
DTSTART;VALUE=DATE:20240326
DTEND;VALUE=DATE:20240327
DTSTAMP:20260420T034929
CREATED:20231228T171132Z
LAST-MODIFIED:20231228T171132Z
UID:4236-1711411200-1711497599@www.semanasantacrevillent.com
SUMMARY:Procesión de los Sacos
DESCRIPTION:La procesión mas austera de cuantas se realizan en Crevillent. La iluminación de las calles apagadas y los penitentes con hábitos cistercienses en absoluto recogimiento\, recorren las calles del casco antiguo de la localidad. Al termino de la misma\, una oración en memoria de todos los difuntos crevillentinos.
URL:http://www.semanasantacrevillent.com:8111/evento/procesion-de-los-sacos/
LOCATION:Parroquia Ntra. Sñra. de Belén
CATEGORIES:Procesión
ATTACH;FMTTYPE=image/jpeg:http://www.semanasantacrevillent.com:8111/wp-content/uploads/2023/11/92115738_1769266119880096_9189286493493919744_n.jpg
END:VEVENT
BEGIN:VEVENT
DTSTART;VALUE=DATE:20240327
DTEND;VALUE=DATE:20240328
DTSTAMP:20260420T034929
CREATED:20231228T172611Z
LAST-MODIFIED:20231228T172611Z
UID:4251-1711497600-1711583999@www.semanasantacrevillent.com
SUMMARY:Miércoles Santo
DESCRIPTION:
URL:http://www.semanasantacrevillent.com:8111/evento/miercoles-santo/
CATEGORIES:Procesión
ATTACH;FMTTYPE=image/jpeg:http://www.semanasantacrevillent.com:8111/wp-content/uploads/2023/07/10.jpg
END:VEVENT
BEGIN:VEVENT
DTSTART;VALUE=DATE:20240328
DTEND;VALUE=DATE:20240329
DTSTAMP:20260420T034929
CREATED:20231228T171340Z
LAST-MODIFIED:20231228T171340Z
UID:4238-1711584000-1711670399@www.semanasantacrevillent.com
SUMMARY:Vía Crucis Penitencial
DESCRIPTION:Los crevillentinos participan masivamente en los Oficios Litúrgicos de la Cena del Señor y con posterioridad acompañan al Cristo del Perdón y la Buena Muerte en su caminar hasta el Calvario rezando las catorce estaciones del Vía Crucis.
URL:http://www.semanasantacrevillent.com:8111/evento/via-crucis-penitencial/
CATEGORIES:Procesión
ATTACH;FMTTYPE=image/jpeg:http://www.semanasantacrevillent.com:8111/wp-content/uploads/2023/11/CARTEL-VIA-CRUCIS-scaled-e1703795023925.jpg
END:VEVENT
BEGIN:VEVENT
DTSTART;VALUE=DATE:20240329
DTEND;VALUE=DATE:20240330
DTSTAMP:20260420T034929
CREATED:20231228T171524Z
LAST-MODIFIED:20231228T183159Z
UID:4240-1711670400-1711756799@www.semanasantacrevillent.com
SUMMARY:Viernes Santo
DESCRIPTION:
URL:http://www.semanasantacrevillent.com:8111/evento/viernes-santo/
CATEGORIES:Procesión
ATTACH;FMTTYPE=image/jpeg:http://www.semanasantacrevillent.com:8111/wp-content/uploads/2023/12/30624302_1809285315795991_147240330834477056_n-e1703795513773.jpg
END:VEVENT
BEGIN:VEVENT
DTSTART;VALUE=DATE:20240330
DTEND;VALUE=DATE:20240331
DTSTAMP:20260420T034929
CREATED:20231228T171634Z
LAST-MODIFIED:20231228T171720Z
UID:4243-1711756800-1711843199@www.semanasantacrevillent.com
SUMMARY:Sábado Santo
DESCRIPTION:
URL:http://www.semanasantacrevillent.com:8111/evento/sabado-santo/
CATEGORIES:Procesión
ATTACH;FMTTYPE=image/jpeg:http://www.semanasantacrevillent.com:8111/wp-content/uploads/2023/11/Francisco-Berenguer-Sepulcro.jpg
END:VEVENT
BEGIN:VEVENT
DTSTART;VALUE=DATE:20240331
DTEND;VALUE=DATE:20240401
DTSTAMP:20260420T034929
CREATED:20231228T171927Z
LAST-MODIFIED:20231228T171927Z
UID:4245-1711843200-1711929599@www.semanasantacrevillent.com
SUMMARY:Domingo Resurrección
DESCRIPTION:
URL:http://www.semanasantacrevillent.com:8111/evento/domingo-resurreccion/
CATEGORIES:Procesión
ATTACH;FMTTYPE=image/jpeg:http://www.semanasantacrevillent.com:8111/wp-content/uploads/2023/12/res.jpg
END:VEVENT
END:VCALENDAR